BEGIN:VCALENDAR
VERSION:2.0
PRODID:-//OmniMagnetCalendar//EN
BEGIN:VEVENT
DTSTAMP:20190625T195740Z
STATUS:CONFIRMED
UID:hcdallas.clubs.harvard.edu985
DTSTART:20260103T160000Z
DTEND:20260103T180000Z
LOCATION:Dallas, TX, 75201,
SUMMARY:SPECIAL POP-UP Holiday Coffee
DESCRIPTION:IN-PERSON EVENT - Please join us for a special holiday pop-up event! Jane Gow, the founder and owner of BeKinder Coffee, is hosting. Chloe Harmon, AB 2028, will speak about her summer of community service in Dallas and time at Harvard. A perfect morning!
BEGIN:VALARM
TRIGGER:-PT15M
ACTION:DISPLAY
END:VALARM
TRANSP:OPAQUE
END:VEVENT
END:VCALENDAR
