BEGIN:VCALENDAR
VERSION:2.0
PRODID:-//OmniMagnetCalendar//EN
BEGIN:VEVENT
DTSTAMP:20190625T195740Z
STATUS:CONFIRMED
UID:hcdallas.clubs.harvard.edu981
DTSTART:20251204T013059Z
DTEND:20251204T023059Z
LOCATION: , Dallas, TX, USA,
SUMMARY:December Book Club Meeting
DESCRIPTION:IN-PERSON EVENT - Join us to discuss Tales of the City by Armistead Maupin.
BEGIN:VALARM
TRIGGER:-PT15M
ACTION:DISPLAY
END:VALARM
TRANSP:OPAQUE
END:VEVENT
END:VCALENDAR
