BEGIN:VCALENDAR
VERSION:2.0
PRODID:-//OmniMagnetCalendar//EN
BEGIN:VEVENT
DTSTAMP:20190625T195740Z
STATUS:CONFIRMED
UID:hcdallas.clubs.harvard.edu748
DTSTART:20221119T170000Z
DTEND:20221119T170000Z
LOCATION:The Black Friar Pub, 6341 LaVista Drive, Dallas, TX, 75214,
SUMMARY: Harvard vs. Yale Game Watching Party
DESCRIPTION:IN-PERSON EVENT - Join us to watch the 138th historic clash of “The Game” on Saturday, November 19th.
BEGIN:VALARM
TRIGGER:-PT15M
ACTION:DISPLAY
END:VALARM
TRANSP:OPAQUE
END:VEVENT
END:VCALENDAR
