BEGIN:VCALENDAR
VERSION:2.0
PRODID:-//OmniMagnetCalendar//EN
BEGIN:VEVENT
DTSTAMP:20190625T195740Z
STATUS:CONFIRMED
UID:hcdallas.clubs.harvard.edu654
DTSTART:20210212T010000Z
DTEND:20210211T163000Z
LOCATION:Virtual, 11909 Preston Road, Suite 1418, Suite 100, Dallas, TX, 75240,
SUMMARY:Exclusive Virtual Chocolate Tasting with Kate Weiser Chocolates February 11th at 7PM
DESCRIPTION:Please join us for an Exclusive Virtual Chocolate Tasting with Kate Weiser Chocolates, Featuring Sales Director Jordan Webb!
BEGIN:VALARM
TRIGGER:-PT15M
ACTION:DISPLAY
END:VALARM
TRANSP:OPAQUE
END:VEVENT
END:VCALENDAR
