BEGIN:VCALENDAR
VERSION:2.0
PRODID:-//OmniMagnetCalendar//EN
BEGIN:VEVENT
DTSTAMP:20190625T195740Z
STATUS:CONFIRMED
UID:hcdallas.clubs.harvard.edu595
DTSTART:20200403T170000Z
DTEND:20200403T180000Z
LOCATION:Virtual Webinar, Dallas, TX, 75201,
SUMMARY:Fearless Positivity Virtual Lunch: Rethinking Stress in the Midst of Uncertainty With Amy Blankson
DESCRIPTION:Fearless Positivity: Rethinking Stress in the Midst of Uncertainty With Amy Blankson
BEGIN:VALARM
TRIGGER:-PT15M
ACTION:DISPLAY
END:VALARM
TRANSP:OPAQUE
END:VEVENT
END:VCALENDAR
