BEGIN:VCALENDAR
VERSION:2.0
PRODID:-//OmniMagnetCalendar//EN
BEGIN:VEVENT
DTSTAMP:20190625T195740Z
STATUS:CONFIRMED
UID:hcdallas.clubs.harvard.edu556
DTSTART:20191123T060000Z
DTEND:20191123T060000Z
LOCATION:The Lot, 7530 E Grand Ave, Dallas, TX, 75214,
SUMMARY:Harvard vs.Yale Game Watching Party
DESCRIPTION:Join us to watch the 136th historic clash of “The Game” on Saturday, November 23rd.
BEGIN:VALARM
TRIGGER:-PT15M
ACTION:DISPLAY
END:VALARM
TRANSP:OPAQUE
END:VEVENT
END:VCALENDAR
