BEGIN:VCALENDAR
VERSION:2.0
PRODID:-//OmniMagnetCalendar//EN
BEGIN:VEVENT
DTSTAMP:20190625T195740Z
STATUS:CONFIRMED
UID:hcdallas.clubs.harvard.edu507
DTSTART:20190512T190000Z
DTEND:20190512T210000Z
LOCATION:Bicentennial Park, 450 W Southlake Blvd, Southlake, TX, 76092,
SUMMARY:Family SIG: Young Families Play Date at the Bicentennial Park in Southlake
DESCRIPTION:Please join us on Sunday, May 12 at 2pm for our semi annual Play Date at one of the modern playgrounds in Southlake, Bicentennial Park
BEGIN:VALARM
TRIGGER:-PT15M
ACTION:DISPLAY
END:VALARM
TRANSP:OPAQUE
END:VEVENT
END:VCALENDAR
