BEGIN:VCALENDAR
VERSION:2.0
PRODID:-//OmniMagnetCalendar//EN
BEGIN:VEVENT
DTSTAMP:20190625T195740Z
STATUS:CONFIRMED
UID:hcdallas.clubs.harvard.edu438
DTSTART:20181016T164500Z
DTEND:20181016T180000Z
LOCATION:Petroleum Club, 2200 Ross Avenue, Dallas, TX, 75201,
SUMMARY:Patrick Kennedy: Leader in the New Urbanist Movement Discusses Vision for Dallas
DESCRIPTION:Ideas regarding "walkable neighborhoods, a mix of land uses in close proximity and accessible public spaces" have been front and center for local business and civic leaders in recent years and Patrick Kennedy has been a big part of driving this movement.
BEGIN:VALARM
TRIGGER:-PT15M
ACTION:DISPLAY
END:VALARM
TRANSP:OPAQUE
END:VEVENT
END:VCALENDAR
