BEGIN:VCALENDAR
VERSION:2.0
PRODID:-//OmniMagnetCalendar//EN
BEGIN:VEVENT
DTSTAMP:20190625T195740Z
STATUS:CONFIRMED
UID:hcdallas.clubs.harvard.edu436
DTSTART:20180905T003000Z
DTEND:20180905T023000Z
LOCATION:Home of Jon Langbert, 3990 Vitruvian Way, Addison, TX, 75001,
SUMMARY:September Book Club Meeting
DESCRIPTION:This time we will be discussing Thinking, Fast and Slow, by Daniel Kahneman. It gives deep—and sometimes frightening—insight about the psychological basis for reactions, judgments, recognition, choices, conclusions, and much more.
BEGIN:VALARM
TRIGGER:-PT15M
ACTION:DISPLAY
END:VALARM
TRANSP:OPAQUE
END:VEVENT
END:VCALENDAR
