BEGIN:VCALENDAR
VERSION:2.0
PRODID:-//OmniMagnetCalendar//EN
BEGIN:VEVENT
DTSTAMP:20190625T195740Z
STATUS:CONFIRMED
UID:hcdallas.clubs.harvard.edu410
DTSTART:20180412T003000Z
DTEND:20180412T003000Z
LOCATION:The Home of Lee Lowenstein, 7211 McKamy Blvd., Dallas, TX,
SUMMARY:April Book Club SIG
DESCRIPTION:
BEGIN:VALARM
TRIGGER:-PT15M
ACTION:DISPLAY
END:VALARM
TRANSP:OPAQUE
END:VEVENT
END:VCALENDAR
