BEGIN:VCALENDAR
VERSION:2.0
PRODID:-//OmniMagnetCalendar//EN
BEGIN:VEVENT
DTSTAMP:20190625T195740Z
STATUS:CONFIRMED
UID:hcdallas.clubs.harvard.edu402
DTSTART:20180310T163000Z
DTEND:20180310T180000Z
LOCATION:Tour Meeting Point, 5909 Harry Hines Blvd, Dallas, TX, 75235,
SUMMARY:Architecture and Design SIG: GSD Hard Hat Tour:  UT Southwestern West Campus Phase One
DESCRIPTION:
BEGIN:VALARM
TRIGGER:-PT15M
ACTION:DISPLAY
END:VALARM
TRANSP:OPAQUE
END:VEVENT
END:VCALENDAR
