BEGIN:VCALENDAR
VERSION:2.0
PRODID:-//OmniMagnetCalendar//EN
BEGIN:VEVENT
DTSTAMP:20190625T195740Z
STATUS:CONFIRMED
UID:hcdallas.clubs.harvard.edu378
DTSTART:20180225T233000Z
DTEND:20180226T023000Z
LOCATION:JS Chen's Dim Sum and BBQ, 240 Legacy Drive, #118, Plano, TX, 75023,
SUMMARY:Special Invitation: Annual Chinese New Year Celebration Dinner
DESCRIPTION:
BEGIN:VALARM
TRIGGER:-PT15M
ACTION:DISPLAY
END:VALARM
TRANSP:OPAQUE
END:VEVENT
END:VCALENDAR
