BEGIN:VCALENDAR
VERSION:2.0
PRODID:-//OmniMagnetCalendar//EN
BEGIN:VEVENT
DTSTAMP:20190625T195740Z
STATUS:CONFIRMED
UID:hcdallas.clubs.harvard.edu1007
DTSTART:20260528T224500Z
DTEND:20260529T000000Z
LOCATION:Arts District Mansion , 2100 Ross Avenue , Dallas, TX, 75201,
SUMMARY:The Art of Negotiation: An Evening with Harvard Instructor Dr. Eugene B. Kogan & KPMG Senior Partner
DESCRIPTION:IN-PERSON EVENT - Join us for an engaging evening with Harvard Instructor Dr. Eugene B. Kogan as he sits down with KPMG Senior Partner Jarrod Bassman for an intimate fireside chat on the art and strategy of negotiation.
BEGIN:VALARM
TRIGGER:-PT15M
ACTION:DISPLAY
END:VALARM
TRANSP:OPAQUE
END:VEVENT
END:VCALENDAR
