BEGIN:VCALENDAR
VERSION:2.0
PRODID:-//OmniMagnetCalendar//EN
BEGIN:VEVENT
DTSTAMP:20190625T195740Z
STATUS:CONFIRMED
UID:hcdallas.clubs.harvard.edu1001
DTSTART:20260411T160059Z
DTEND:20260411T170059Z
LOCATION:DeSoto House of Peace & Community Center, 531 W. Belt Line Rd., DeSoto, TX, 75115,
SUMMARY:Intersection of Art, Architecture and Religion - DeSoto House of Peace & Community Center
DESCRIPTION:IN-PERSON EVENT - Join us for the third installment of the mobile tour program in which the Harvard Club is exploring how architecture and art support religious mission.
BEGIN:VALARM
TRIGGER:-PT15M
ACTION:DISPLAY
END:VALARM
TRANSP:OPAQUE
END:VEVENT
END:VCALENDAR
